Workbook

Sheet Escala 6x2
A1: ID | B1: Colaborador | C1: Cargo | D1: Setor | E1: Cidade | F1: Turno | G1: Data de início do ciclo | H1: Data de referência | I1: Dia da semana | J1: Dia do ciclo | K1: Status do dia | L1: Entrada | M1: Saída | N1: Intervalo (h) | O1: Horas previstas | P1: Horas realizadas | Q1: Folga compensatória | R1: Observações | S1: Conformidade
A2: 1 | B2: João Silva | C2: Operador de Produção | D2: Produção | E2: São Paulo | F2: 06:00–14:00 | G2: 46266 | H2: 46266 | I2: =IF(H2="","",IF(MOD(H2-46265,7)=0,"segunda-feira",IF(MOD(H2-46265,7)=1,"terça-feira",IF(MOD(H2-46265,7)=2,"quarta-feira",IF(MOD(H2-46265,7)=3,"quinta-feira",IF(MOD(H2-46265,7)=4,"sexta-feira",IF(MOD(H2-46265,7)=5,"sábado","domingo"))))))) | J2: =IF(OR(G2="",H2=""),"",MOD(H2-G2,8)+1) | K2: =IF(J2="","",IF(J2<=6,"Trabalho","Folga")) | L2: 0.25 | M2: 0.60416667 | N2: 0.5 | O2: =IF(K2="","",IF(K2="Trabalho",8,0)) | P2: =IF(H2="","",IF(K2="Folga",0,IF(OR(L2="",M2="",N2=""),0,IFERROR(MOD(M2-L2,1)*24-N2,0)))) | Q2: =IF(K2="","",IF(K2="Folga","Sim","Não")) | R2: Ritmo regular no posto. | S2: =IF(H2="","",IF(K2="Folga","Folga programada",IF(P2>=O2,"Conforme","Verificar")))
A3: 2 | B3: Maria Oliveira | C3: Analista de Logística | D3: Logística | E3: Campinas | F3: 14:00–22:00 | G3: 46266 | H3: 46267 | I3: =IF(H3="","",IF(MOD(H3-46265,7)=0,"segunda-feira",IF(MOD(H3-46265,7)=1,"terça-feira",IF(MOD(H3-46265,7)=2,"quarta-feira",IF(MOD(H3-46265,7)=3,"quinta-feira",IF(MOD(H3-46265,7)=4,"sexta-feira",IF(MOD(H3-46265,7)=5,"sábado","domingo"))))))) | J3: =IF(OR(G3="",H3=""),"",MOD(H3-G3,8)+1) | K3: =IF(J3="","",IF(J3<=6,"Trabalho","Folga")) | L3: 0.58333333 | M3: 0.9375 | N3: 0.5 | O3: =IF(K3="","",IF(K3="Trabalho",8,0)) | P3: =IF(H3="","",IF(K3="Folga",0,IF(OR(L3="",M3="",N3=""),0,IFERROR(MOD(M3-L3,1)*24-N3,0)))) | Q3: =IF(K3="","",IF(K3="Folga","Sim","Não")) | R3: Conferência de rotas concluída. | S3: =IF(H3="","",IF(K3="Folga","Folga programada",IF(P3>=O3,"Conforme","Verificar")))
A4: 3 | B4: Pedro Santos | C4: Técnico de Manutenção | D4: Manutenção | E4: Belo Horizonte | F4: 22:00–06:00 | G4: 46266 | H4: 46268 | I4: =IF(H4="","",IF(MOD(H4-46265,7)=0,"segunda-feira",IF(MOD(H4-46265,7)=1,"terça-feira",IF(MOD(H4-46265,7)=2,"quarta-feira",IF(MOD(H4-46265,7)=3,"quinta-feira",IF(MOD(H4-46265,7)=4,"sexta-feira",IF(MOD(H4-46265,7)=5,"sábado","domingo"))))))) | J4: =IF(OR(G4="",H4=""),"",MOD(H4-G4,8)+1) | K4: =IF(J4="","",IF(J4<=6,"Trabalho","Folga")) | L4: 0.91666667 | M4: 0.27083333 | N4: 0.5 | O4: =IF(K4="","",IF(K4="Trabalho",8,0)) | P4: =IF(H4="","",IF(K4="Folga",0,IF(OR(L4="",M4="",N4=""),0,IFERROR(MOD(M4-L4,1)*24-N4,0)))) | Q4: =IF(K4="","",IF(K4="Folga","Sim","Não")) | R4: Turno noturno com ronda técnica. | S4: =IF(H4="","",IF(K4="Folga","Folga programada",IF(P4>=O4,"Conforme","Verificar")))
A5: 4 | B5: Ana Souza | C5: Supervisora de Operações | D5: Operações | E5: Rio de Janeiro | F5: 06:00–14:00 | G5: 46266 | H5: 46269 | I5: =IF(H5="","",IF(MOD(H5-46265,7)=0,"segunda-feira",IF(MOD(H5-46265,7)=1,"terça-feira",IF(MOD(H5-46265,7)=2,"quarta-feira",IF(MOD(H5-46265,7)=3,"quinta-feira",IF(MOD(H5-46265,7)=4,"sexta-feira",IF(MOD(H5-46265,7)=5,"sábado","domingo"))))))) | J5: =IF(OR(G5="",H5=""),"",MOD(H5-G5,8)+1) | K5: =IF(J5="","",IF(J5<=6,"Trabalho","Folga")) | L5: 0.25 | M5: 0.60416667 | N5: 0.5 | O5: =IF(K5="","",IF(K5="Trabalho",8,0)) | P5: =IF(H5="","",IF(K5="Folga",0,IF(OR(L5="",M5="",N5=""),0,IFERROR(MOD(M5-L5,1)*24-N5,0)))) | Q5: =IF(K5="","",IF(K5="Folga","Sim","Não")) | R5: Acompanhamento da abertura. | S5: =IF(H5="","",IF(K5="Folga","Folga programada",IF(P5>=O5,"Conforme","Verificar")))
A6: 5 | B6: Carlos Pereira | C6: Assistente de Expedição | D6: Expedição | E6: Curitiba | F6: 14:00–22:00 | G6: 46266 | H6: 46270 | I6: =IF(H6="","",IF(MOD(H6-46265,7)=0,"segunda-feira",IF(MOD(H6-46265,7)=1,"terça-feira",IF(MOD(H6-46265,7)=2,"quarta-feira",IF(MOD(H6-46265,7)=3,"quinta-feira",IF(MOD(H6-46265,7)=4,"sexta-feira",IF(MOD(H6-46265,7)=5,"sábado","domingo"))))))) | J6: =IF(OR(G6="",H6=""),"",MOD(H6-G6,8)+1) | K6: =IF(J6="","",IF(J6<=6,"Trabalho","Folga")) | L6: 0.58333333 | M6: 0.91666667 | N6: 0.5 | O6: =IF(K6="","",IF(K6="Trabalho",8,0)) | P6: =IF(H6="","",IF(K6="Folga",0,IF(OR(L6="",M6="",N6=""),0,IFERROR(MOD(M6-L6,1)*24-N6,0)))) | Q6: =IF(K6="","",IF(K6="Folga","Sim","Não")) | R6: Saída antecipada para ajuste. | S6: =IF(H6="","",IF(K6="Folga","Folga programada",IF(P6>=O6,"Conforme","Verificar")))
A7: 6 | B7: Juliana Costa | C7: Operadora de Produção | D7: Produção | E7: Porto Alegre | F7: 22:00–06:00 | G7: 46266 | H7: 46271 | I7: =IF(H7="","",IF(MOD(H7-46265,7)=0,"segunda-feira",IF(MOD(H7-46265,7)=1,"terça-feira",IF(MOD(H7-46265,7)=2,"quarta-feira",IF(MOD(H7-46265,7)=3,"quinta-feira",IF(MOD(H7-46265,7)=4,"sexta-feira",IF(MOD(H7-46265,7)=5,"sábado","domingo"))))))) | J7: =IF(OR(G7="",H7=""),"",MOD(H7-G7,8)+1) | K7: =IF(J7="","",IF(J7<=6,"Trabalho","Folga")) | L7: 0.91666667 | M7: 0.27083333 | N7: 0.5 | O7: =IF(K7="","",IF(K7="Trabalho",8,0)) | P7: =IF(H7="","",IF(K7="Folga",0,IF(OR(L7="",M7="",N7=""),0,IFERROR(MOD(M7-L7,1)*24-N7,0)))) | Q7: =IF(K7="","",IF(K7="Folga","Sim","Não")) | R7: Linha de produção estabilizada. | S7: =IF(H7="","",IF(K7="Folga","Folga programada",IF(P7>=O7,"Conforme","Verificar")))
A8: 7 | B8: Rafael Almeida | C8: Conferente | D8: Expedição | E8: Salvador | F8: 06:00–14:00 | G8: 46266 | H8: 46272 | I8: =IF(H8="","",IF(MOD(H8-46265,7)=0,"segunda-feira",IF(MOD(H8-46265,7)=1,"terça-feira",IF(MOD(H8-46265,7)=2,"quarta-feira",IF(MOD(H8-46265,7)=3,"quinta-feira",IF(MOD(H8-46265,7)=4,"sexta-feira",IF(MOD(H8-46265,7)=5,"sábado","domingo"))))))) | J8: =IF(OR(G8="",H8=""),"",MOD(H8-G8,8)+1) | K8: =IF(J8="","",IF(J8<=6,"Trabalho","Folga")) | O8: =IF(K8="","",IF(K8="Trabalho",8,0)) | P8: =IF(H8="","",IF(K8="Folga",0,IF(OR(L8="",M8="",N8=""),0,IFERROR(MOD(M8-L8,1)*24-N8,0)))) | Q8: =IF(K8="","",IF(K8="Folga","Sim","Não")) | R8: Folga prevista no ciclo. | S8: =IF(H8="","",IF(K8="Folga","Folga programada",IF(P8>=O8,"Conforme","Verificar")))
A9: 8 | B9: Camila Ferreira | C9: Técnica de Qualidade | D9: Qualidade | E9: Recife | F9: 14:00–22:00 | G9: 46266 | H9: 46273 | I9: =IF(H9="","",IF(MOD(H9-46265,7)=0,"segunda-feira",IF(MOD(H9-46265,7)=1,"terça-feira",IF(MOD(H9-46265,7)=2,"quarta-feira",IF(MOD(H9-46265,7)=3,"quinta-feira",IF(MOD(H9-46265,7)=4,"sexta-feira",IF(MOD(H9-46265,7)=5,"sábado","domingo"))))))) | J9: =IF(OR(G9="",H9=""),"",MOD(H9-G9,8)+1) | K9: =IF(J9="","",IF(J9<=6,"Trabalho","Folga")) | O9: =IF(K9="","",IF(K9="Trabalho",8,0)) | P9: =IF(H9="","",IF(K9="Folga",0,IF(OR(L9="",M9="",N9=""),0,IFERROR(MOD(M9-L9,1)*24-N9,0)))) | Q9: =IF(K9="","",IF(K9="Folga","Sim","Não")) | R9: Folga prevista no ciclo. | S9: =IF(H9="","",IF(K9="Folga","Folga programada",IF(P9>=O9,"Conforme","Verificar")))
A10: 9 | B10: Lucas Rodrigues | C10: Auxiliar de Logística | D10: Logística | E10: Fortaleza | F10: 22:00–06:00 | G10: 46266 | H10: 46274 | I10: =IF(H10="","",IF(MOD(H10-46265,7)=0,"segunda-feira",IF(MOD(H10-46265,7)=1,"terça-feira",IF(MOD(H10-46265,7)=2,"quarta-feira",IF(MOD(H10-46265,7)=3,"quinta-feira",IF(MOD(H10-46265,7)=4,"sexta-feira",IF(MOD(H10-46265,7)=5,"sábado","domingo"))))))) | J10: =IF(OR(G10="",H10=""),"",MOD(H10-G10,8)+1) | K10: =IF(J10="","",IF(J10<=6,"Trabalho","Folga")) | L10: 0.91666667 | M10: 0.27083333 | N10: 0.5 | O10: =IF(K10="","",IF(K10="Trabalho",8,0)) | P10: =IF(H10="","",IF(K10="Folga",0,IF(OR(L10="",M10="",N10=""),0,IFERROR(MOD(M10-L10,1)*24-N10,0)))) | Q10: =IF(K10="","",IF(K10="Folga","Sim","Não")) | R10: Apoio na separação noturna. | S10: =IF(H10="","",IF(K10="Folga","Folga programada",IF(P10>=O10,"Conforme","Verificar")))
A11: 10 | B11: Fernanda Lima | C11: Supervisora de Turno | D11: Operações | E11: Brasília | F11: 06:00–14:00 | G11: 46266 | H11: 46275 | I11: =IF(H11="","",IF(MOD(H11-46265,7)=0,"segunda-feira",IF(MOD(H11-46265,7)=1,"terça-feira",IF(MOD(H11-46265,7)=2,"quarta-feira",IF(MOD(H11-46265,7)=3,"quinta-feira",IF(MOD(H11-46265,7)=4,"sexta-feira",IF(MOD(H11-46265,7)=5,"sábado","domingo"))))))) | J11: =IF(OR(G11="",H11=""),"",MOD(H11-G11,8)+1) | K11: =IF(J11="","",IF(J11<=6,"Trabalho","Folga")) | L11: 0.25 | M11: 0.60416667 | N11: 0.5 | O11: =IF(K11="","",IF(K11="Trabalho",8,0)) | P11: =IF(H11="","",IF(K11="Folga",0,IF(OR(L11="",M11="",N11=""),0,IFERROR(MOD(M11-L11,1)*24-N11,0)))) | Q11: =IF(K11="","",IF(K11="Folga","Sim","Não")) | R11: Fechamento de indicadores do turno. | S11: =IF(H11="","",IF(K11="Folga","Folga programada",IF(P11>=O11,"Conforme","Verificar")))
I12: =IF(H12="","",IF(MOD(H12-46265,7)=0,"segunda-feira",IF(MOD(H12-46265,7)=1,"terça-feira",IF(MOD(H12-46265,7)=2,"quarta-feira",IF(MOD(H12-46265,7)=3,"quinta-feira",IF(MOD(H12-46265,7)=4,"sexta-feira",IF(MOD(H12-46265,7)=5,"sábado","domingo"))))))) | J12: =IF(OR(G12="",H12=""),"",MOD(H12-G12,8)+1) | K12: =IF(J12="","",IF(J12<=6,"Trabalho","Folga")) | O12: =IF(K12="","",IF(K12="Trabalho",8,0)) | P12: =IF(H12="","",IF(K12="Folga",0,IF(OR(L12="",M12="",N12=""),0,IFERROR(MOD(M12-L12,1)*24-N12,0)))) | Q12: =IF(K12="","",IF(K12="Folga","Sim","Não")) | S12: =IF(H12="","",IF(K12="Folga","Folga programada",IF(P12>=O12,"Conforme","Verificar")))
I13: =IF(H13="","",IF(MOD(H13-46265,7)=0,"segunda-feira",IF(MOD(H13-46265,7)=1,"terça-feira",IF(MOD(H13-46265,7)=2,"quarta-feira",IF(MOD(H13-46265,7)=3,"quinta-feira",IF(MOD(H13-46265,7)=4,"sexta-feira",IF(MOD(H13-46265,7)=5,"sábado","domingo"))))))) | J13: =IF(OR(G13="",H13=""),"",MOD(H13-G13,8)+1) | K13: =IF(J13="","",IF(J13<=6,"Trabalho","Folga")) | O13: =IF(K13="","",IF(K13="Trabalho",8,0)) | P13: =IF(H13="","",IF(K13="Folga",0,IF(OR(L13="",M13="",N13=""),0,IFERROR(MOD(M13-L13,1)*24-N13,0)))) | Q13: =IF(K13="","",IF(K13="Folga","Sim","Não")) | S13: =IF(H13="","",IF(K13="Folga","Folga programada",IF(P13>=O13,"Conforme","Verificar")))
I14: =IF(H14="","",IF(MOD(H14-46265,7)=0,"segunda-feira",IF(MOD(H14-46265,7)=1,"terça-feira",IF(MOD(H14-46265,7)=2,"quarta-feira",IF(MOD(H14-46265,7)=3,"quinta-feira",IF(MOD(H14-46265,7)=4,"sexta-feira",IF(MOD(H14-46265,7)=5,"sábado","domingo"))))))) | J14: =IF(OR(G14="",H14=""),"",MOD(H14-G14,8)+1) | K14: =IF(J14="","",IF(J14<=6,"Trabalho","Folga")) | O14: =IF(K14="","",IF(K14="Trabalho",8,0)) | P14: =IF(H14="","",IF(K14="Folga",0,IF(OR(L14="",M14="",N14=""),0,IFERROR(MOD(M14-L14,1)*24-N14,0)))) | Q14: =IF(K14="","",IF(K14="Folga","Sim","Não")) | S14: =IF(H14="","",IF(K14="Folga","Folga programada",IF(P14>=O14,"Conforme","Verificar")))
I15: =IF(H15="","",IF(MOD(H15-46265,7)=0,"segunda-feira",IF(MOD(H15-46265,7)=1,"terça-feira",IF(MOD(H15-46265,7)=2,"quarta-feira",IF(MOD(H15-46265,7)=3,"quinta-feira",IF(MOD(H15-46265,7)=4,"sexta-feira",IF(MOD(H15-46265,7)=5,"sábado","domingo"))))))) | J15: =IF(OR(G15="",H15=""),"",MOD(H15-G15,8)+1) | K15: =IF(J15="","",IF(J15<=6,"Trabalho","Folga")) | O15: =IF(K15="","",IF(K15="Trabalho",8,0)) | P15: =IF(H15="","",IF(K15="Folga",0,IF(OR(L15="",M15="",N15=""),0,IFERROR(MOD(M15-L15,1)*24-N15,0)))) | Q15: =IF(K15="","",IF(K15="Folga","Sim","Não")) | S15: =IF(H15="","",IF(K15="Folga","Folga programada",IF(P15>=O15,"Conforme","Verificar")))
I16: =IF(H16="","",IF(MOD(H16-46265,7)=0,"segunda-feira",IF(MOD(H16-46265,7)=1,"terça-feira",IF(MOD(H16-46265,7)=2,"quarta-feira",IF(MOD(H16-46265,7)=3,"quinta-feira",IF(MOD(H16-46265,7)=4,"sexta-feira",IF(MOD(H16-46265,7)=5,"sábado","domingo"))))))) | J16: =IF(OR(G16="",H16=""),"",MOD(H16-G16,8)+1) | K16: =IF(J16="","",IF(J16<=6,"Trabalho","Folga")) | O16: =IF(K16="","",IF(K16="Trabalho",8,0)) | P16: =IF(H16="","",IF(K16="Folga",0,IF(OR(L16="",M16="",N16=""),0,IFERROR(MOD(M16-L16,1)*24-N16,0)))) | Q16: =IF(K16="","",IF(K16="Folga","Sim","Não")) | S16: =IF(H16="","",IF(K16="Folga","Folga programada",IF(P16>=O16,"Conforme","Verificar")))
I17: =IF(H17="","",IF(MOD(H17-46265,7)=0,"segunda-feira",IF(MOD(H17-46265,7)=1,"terça-feira",IF(MOD(H17-46265,7)=2,"quarta-feira",IF(MOD(H17-46265,7)=3,"quinta-feira",IF(MOD(H17-46265,7)=4,"sexta-feira",IF(MOD(H17-46265,7)=5,"sábado","domingo"))))))) | J17: =IF(OR(G17="",H17=""),"",MOD(H17-G17,8)+1) | K17: =IF(J17="","",IF(J17<=6,"Trabalho","Folga")) | O17: =IF(K17="","",IF(K17="Trabalho",8,0)) | P17: =IF(H17="","",IF(K17="Folga",0,IF(OR(L17="",M17="",N17=""),0,IFERROR(MOD(M17-L17,1)*24-N17,0)))) | Q17: =IF(K17="","",IF(K17="Folga","Sim","Não")) | S17: =IF(H17="","",IF(K17="Folga","Folga programada",IF(P17>=O17,"Conforme","Verificar")))
I18: =IF(H18="","",IF(MOD(H18-46265,7)=0,"segunda-feira",IF(MOD(H18-46265,7)=1,"terça-feira",IF(MOD(H18-46265,7)=2,"quarta-feira",IF(MOD(H18-46265,7)=3,"quinta-feira",IF(MOD(H18-46265,7)=4,"sexta-feira",IF(MOD(H18-46265,7)=5,"sábado","domingo"))))))) | J18: =IF(OR(G18="",H18=""),"",MOD(H18-G18,8)+1) | K18: =IF(J18="","",IF(J18<=6,"Trabalho","Folga")) | O18: =IF(K18="","",IF(K18="Trabalho",8,0)) | P18: =IF(H18="","",IF(K18="Folga",0,IF(OR(L18="",M18="",N18=""),0,IFERROR(MOD(M18-L18,1)*24-N18,0)))) | Q18: =IF(K18="","",IF(K18="Folga","Sim","Não")) | S18: =IF(H18="","",IF(K18="Folga","Folga programada",IF(P18>=O18,"Conforme","Verificar")))
I19: =IF(H19="","",IF(MOD(H19-46265,7)=0,"segunda-feira",IF(MOD(H19-46265,7)=1,"terça-feira",IF(MOD(H19-46265,7)=2,"quarta-feira",IF(MOD(H19-46265,7)=3,"quinta-feira",IF(MOD(H19-46265,7)=4,"sexta-feira",IF(MOD(H19-46265,7)=5,"sábado","domingo"))))))) | J19: =IF(OR(G19="",H19=""),"",MOD(H19-G19,8)+1) | K19: =IF(J19="","",IF(J19<=6,"Trabalho","Folga")) | O19: =IF(K19="","",IF(K19="Trabalho",8,0)) | P19: =IF(H19="","",IF(K19="Folga",0,IF(OR(L19="",M19="",N19=""),0,IFERROR(MOD(M19-L19,1)*24-N19,0)))) | Q19: =IF(K19="","",IF(K19="Folga","Sim","Não")) | S19: =IF(H19="","",IF(K19="Folga","Folga programada",IF(P19>=O19,"Conforme","Verificar")))
I20: =IF(H20="","",IF(MOD(H20-46265,7)=0,"segunda-feira",IF(MOD(H20-46265,7)=1,"terça-feira",IF(MOD(H20-46265,7)=2,"quarta-feira",IF(MOD(H20-46265,7)=3,"quinta-feira",IF(MOD(H20-46265,7)=4,"sexta-feira",IF(MOD(H20-46265,7)=5,"sábado","domingo"))))))) | J20: =IF(OR(G20="",H20=""),"",MOD(H20-G20,8)+1) | K20: =IF(J20="","",IF(J20<=6,"Trabalho","Folga")) | O20: =IF(K20="","",IF(K20="Trabalho",8,0)) | P20: =IF(H20="","",IF(K20="Folga",0,IF(OR(L20="",M20="",N20=""),0,IFERROR(MOD(M20-L20,1)*24-N20,0)))) | Q20: =IF(K20="","",IF(K20="Folga","Sim","Não")) | S20: =IF(H20="","",IF(K20="Folga","Folga programada",IF(P20>=O20,"Conforme","Verificar")))
I21: =IF(H21="","",IF(MOD(H21-46265,7)=0,"segunda-feira",IF(MOD(H21-46265,7)=1,"terça-feira",IF(MOD(H21-46265,7)=2,"quarta-feira",IF(MOD(H21-46265,7)=3,"quinta-feira",IF(MOD(H21-46265,7)=4,"sexta-feira",IF(MOD(H21-46265,7)=5,"sábado","domingo"))))))) | J21: =IF(OR(G21="",H21=""),"",MOD(H21-G21,8)+1) | K21: =IF(J21="","",IF(J21<=6,"Trabalho","Folga")) | O21: =IF(K21="","",IF(K21="Trabalho",8,0)) | P21: =IF(H21="","",IF(K21="Folga",0,IF(OR(L21="",M21="",N21=""),0,IFERROR(MOD(M21-L21,1)*24-N21,0)))) | Q21: =IF(K21="","",IF(K21="Folga","Sim","Não")) | S21: =IF(H21="","",IF(K21="Folga","Folga programada",IF(P21>=O21,"Conforme","Verificar")))
I22: =IF(H22="","",IF(MOD(H22-46265,7)=0,"segunda-feira",IF(MOD(H22-46265,7)=1,"terça-feira",IF(MOD(H22-46265,7)=2,"quarta-feira",IF(MOD(H22-46265,7)=3,"quinta-feira",IF(MOD(H22-46265,7)=4,"sexta-feira",IF(MOD(H22-46265,7)=5,"sábado","domingo"))))))) | J22: =IF(OR(G22="",H22=""),"",MOD(H22-G22,8)+1) | K22: =IF(J22="","",IF(J22<=6,"Trabalho","Folga")) | O22: =IF(K22="","",IF(K22="Trabalho",8,0)) | P22: =IF(H22="","",IF(K22="Folga",0,IF(OR(L22="",M22="",N22=""),0,IFERROR(MOD(M22-L22,1)*24-N22,0)))) | Q22: =IF(K22="","",IF(K22="Folga","Sim","Não")) | S22: =IF(H22="","",IF(K22="Folga","Folga programada",IF(P22>=O22,"Conforme","Verificar")))
I23: =IF(H23="","",IF(MOD(H23-46265,7)=0,"segunda-feira",IF(MOD(H23-46265,7)=1,"terça-feira",IF(MOD(H23-46265,7)=2,"quarta-feira",IF(MOD(H23-46265,7)=3,"quinta-feira",IF(MOD(H23-46265,7)=4,"sexta-feira",IF(MOD(H23-46265,7)=5,"sábado","domingo"))))))) | J23: =IF(OR(G23="",H23=""),"",MOD(H23-G23,8)+1) | K23: =IF(J23="","",IF(J23<=6,"Trabalho","Folga")) | O23: =IF(K23="","",IF(K23="Trabalho",8,0)) | P23: =IF(H23="","",IF(K23="Folga",0,IF(OR(L23="",M23="",N23=""),0,IFERROR(MOD(M23-L23,1)*24-N23,0)))) | Q23: =IF(K23="","",IF(K23="Folga","Sim","Não")) | S23: =IF(H23="","",IF(K23="Folga","Folga programada",IF(P23>=O23,"Conforme","Verificar")))
... I101: =IF(H101="","",IF(MOD(H101-46265,7)=0,"segunda-feira",IF(MOD(H101-46265,7)=1,"terça-feira",IF(MOD(H101-46265,7)=2,"quarta-feira",IF(MOD(H101-46265,7)=3,"quinta-feira",IF(MOD(H101-46265,7)=4,"sexta-feira",IF(MOD(H101-46265,7)=5,"sábado","domingo"))))))) | J101: =IF(OR(G101="",H101=""),"",MOD(H101-G101,8)+1) | K101: =IF(J101="","",IF(J101<=6,"Trabalho","Folga")) | O101: =IF(K101="","",IF(K101="Trabalho",8,0)) | P101: =IF(H101="","",IF(K101="Folga",0,IF(OR(L101="",M101="",N101=""),0,IFERROR(MOD(M101-L101,1)*24-N101,0)))) | Q101: =IF(K101="","",IF(K101="Folga","Sim","Não")) | S101: =IF(H101="","",IF(K101="Folga","Folga programada",IF(P101>=O101,"Conforme","Verificar")))

Sheet Resumo
A1: Resumo 6x2 | visão rápida para agir
A2: Período analisado | B2: 01/09/2026 a 10/09/2026
A3: ID para consulta | B3: 4
A4: Supervisora localizada | B4: =IFERROR(VLOOKUP($B$3,'Escala 6x2'!$A$2:$S$101,2,FALSE),"Não encontrado")
A6: Indicador | B6: Resultado
A7: Total de colaboradores | B7: =COUNTA('Escala 6x2'!$B$2:$B$101)
A8: Total de registros de trabalho | B8: =COUNTIF('Escala 6x2'!$K$2:$K$101,"Trabalho")
A9: Total de folgas | B9: =COUNTIF('Escala 6x2'!$K$2:$K$101,"Folga")
A10: Total de horas previstas | B10: =SUM('Escala 6x2'!$O$2:$O$101)
A11: Média de horas realizadas | B11: =IFERROR(AVERAGE('Escala 6x2'!$P$2:$P$101),0)
A12: Percentual de conformidade | B12: =IFERROR(COUNTIF('Escala 6x2'!$S$2:$S$101,"Conforme")/COUNTA('Escala 6x2'!$S$2:$S$101),0)
A14: Cobertura por setor | G14: Trabalho x folga | H14: Quantidade
A15: Setor | B15: Colaboradores | C15: Horas previstas | D15: Horas realizadas | E15: Conformidade | G15: Trabalho | H15: =COUNTIF('Escala 6x2'!$K$2:$K$101,"Trabalho")
A16: Produção | B16: =COUNTIF('Escala 6x2'!$D$2:$D$101,$A16) | C16: =SUMIF('Escala 6x2'!$D$2:$D$101,$A16,'Escala 6x2'!$O$2:$O$101) | D16: =SUMIF('Escala 6x2'!$D$2:$D$101,$A16,'Escala 6x2'!$P$2:$P$101) | E16: =IFERROR(COUNTIFS('Escala 6x2'!$D$2:$D$101,$A16,'Escala 6x2'!$S$2:$S$101,"Conforme")/B16,0) | G16: Folga | H16: =COUNTIF('Escala 6x2'!$K$2:$K$101,"Folga")
A17: Logística | B17: =COUNTIF('Escala 6x2'!$D$2:$D$101,$A17) | C17: =SUMIF('Escala 6x2'!$D$2:$D$101,$A17,'Escala 6x2'!$O$2:$O$101) | D17: =SUMIF('Escala 6x2'!$D$2:$D$101,$A17,'Escala 6x2'!$P$2:$P$101) | E17: =IFERROR(COUNTIFS('Escala 6x2'!$D$2:$D$101,$A17,'Escala 6x2'!$S$2:$S$101,"Conforme")/B17,0)
A18: Manutenção | B18: =COUNTIF('Escala 6x2'!$D$2:$D$101,$A18) | C18: =SUMIF('Escala 6x2'!$D$2:$D$101,$A18,'Escala 6x2'!$O$2:$O$101) | D18: =SUMIF('Escala 6x2'!$D$2:$D$101,$A18,'Escala 6x2'!$P$2:$P$101) | E18: =IFERROR(COUNTIFS('Escala 6x2'!$D$2:$D$101,$A18,'Escala 6x2'!$S$2:$S$101,"Conforme")/B18,0)
A19: Operações | B19: =COUNTIF('Escala 6x2'!$D$2:$D$101,$A19) | C19: =SUMIF('Escala 6x2'!$D$2:$D$101,$A19,'Escala 6x2'!$O$2:$O$101) | D19: =SUMIF('Escala 6x2'!$D$2:$D$101,$A19,'Escala 6x2'!$P$2:$P$101) | E19: =IFERROR(COUNTIFS('Escala 6x2'!$D$2:$D$101,$A19,'Escala 6x2'!$S$2:$S$101,"Conforme")/B19,0) | G19: Evolução diária das horas | H19: Horas realizadas
A20: Expedição | B20: =COUNTIF('Escala 6x2'!$D$2:$D$101,$A20) | C20: =SUMIF('Escala 6x2'!$D$2:$D$101,$A20,'Escala 6x2'!$O$2:$O$101) | D20: =SUMIF('Escala 6x2'!$D$2:$D$101,$A20,'Escala 6x2'!$P$2:$P$101) | E20: =IFERROR(COUNTIFS('Escala 6x2'!$D$2:$D$101,$A20,'Escala 6x2'!$S$2:$S$101,"Conforme")/B20,0) | G20: 46266 | H20: =SUMIF('Escala 6x2'!$H$2:$H$101,G20,'Escala 6x2'!$P$2:$P$101)
A21: Qualidade | B21: =COUNTIF('Escala 6x2'!$D$2:$D$101,$A21) | C21: =SUMIF('Escala 6x2'!$D$2:$D$101,$A21,'Escala 6x2'!$O$2:$O$101) | D21: =SUMIF('Escala 6x2'!$D$2:$D$101,$A21,'Escala 6x2'!$P$2:$P$101) | E21: =IFERROR(COUNTIFS('Escala 6x2'!$D$2:$D$101,$A21,'Escala 6x2'!$S$2:$S$101,"Conforme")/B21,0) | G21: 46267 | H21: =SUMIF('Escala 6x2'!$H$2:$H$101,G21,'Escala 6x2'!$P$2:$P$101)
G22: 46268 | H22: =SUMIF('Escala 6x2'!$H$2:$H$101,G22,'Escala 6x2'!$P$2:$P$101)
G23: 46269 | H23: =SUMIF('Escala 6x2'!$H$2:$H$101,G23,'Escala 6x2'!$P$2:$P$101)
G24: 46270 | H24: =SUMIF('Escala 6x2'!$H$2:$H$101,G24,'Escala 6x2'!$P$2:$P$101)
G25: 46271 | H25: =SUMIF('Escala 6x2'!$H$2:$H$101,G25,'Escala 6x2'!$P$2:$P$101)
G26: 46272 | H26: =SUMIF('Escala 6x2'!$H$2:$H$101,G26,'Escala 6x2'!$P$2:$P$101)
G27: 46273 | H27: =SUMIF('Escala 6x2'!$H$2:$H$101,G27,'Escala 6x2'!$P$2:$P$101)
G28: 46274 | H28: =SUMIF('Escala 6x2'!$H$2:$H$101,G28,'Escala 6x2'!$P$2:$P$101)
G29: 46275 | H29: =SUMIF('Escala 6x2'!$H$2:$H$101,G29,'Escala 6x2'!$P$2:$P$101)

Sheet Instruções
A1: Escala 6x2 | guia rápido para não perder o ritmo
A3: Ação | B3: Orientação prática
A4: Entenda o ciclo 6x2 | B4: A escala prevê seis dias consecutivos de trabalho e dois dias consecutivos de folga. O campo Dia do ciclo calcula a posição de 1 a 8 e o Status do dia sinaliza Trabalho ou Folga.
A5: Ajuste o ciclo | B5: Edite a Data de início do ciclo e a Data de referência na aba Escala 6x2. O Dia do ciclo, o Status do dia, as horas previstas e a folga compensatória são recalculados automaticamente.
A6: Registre horários | B6: Preencha Entrada, Saída e Intervalo (h). Para turno noturno, informe a saída no horário real do dia seguinte; o cálculo usa a diferença correta mesmo quando o turno atravessa a meia-noite.
A7: Leia a conformidade | B7: Conforme indica que as horas realizadas atendem ou superam as horas previstas. Verificar aponta diferença de horas e pede conferência imediata. Folga programada confirma a folga do ciclo.
A8: Valide com RH e DP | B8: Use esta planilha como apoio operacional. A validação final deve ser feita pelo responsável de RH/DP, considerando CLT, convenção coletiva, controle de jornada e regras de intervalo aplicáveis.
A9: Ataque os pontos sensíveis | B9: Monitore horas extras, adicional noturno, banco de horas e compensações antes do fechamento. Ajuste os registros com evidências do controle de jornada.
A10: Proteja os dados | B10: Trate dados dos colaboradores com atenção à LGPD. Compartilhe a escala apenas com pessoas autorizadas e mantenha observações restritas ao necessário para a gestão.
A11: Use o Resumo | B11: A aba Resumo mostra cobertura por setor, horas previstas versus realizadas, trabalho x folga e evolução diária. Informe um ID na consulta rápida para localizar a supervisora cadastrada.
